BEGIN:VCALENDAR
VERSION:2.0
PRODID:-//CATON PARIS-SACLAY - ECPv6.6.2//NONSGML v1.0//EN
CALSCALE:GREGORIAN
METHOD:PUBLISH
X-ORIGINAL-URL:https://www.caton-paris-saclay.org
X-WR-CALDESC:évènements pour CATON PARIS-SACLAY
REFRESH-INTERVAL;VALUE=DURATION:PT1H
X-Robots-Tag:noindex
X-PUBLISHED-TTL:PT1H
BEGIN:VTIMEZONE

END:VTIMEZONE
BEGIN:VEVENT
DTSTART;TZID=Europe/Paris:20260422T050022
DTEND;TZID=Europe/Paris:20250923T160000
DTSTAMP:20260422T050022
CREATED:20250919T145722Z
LAST-MODIFIED:20250919T145722Z
UID:12555-0-1758643200@www.caton-paris-saclay.org
SUMMARY:Atelier "Gérer ses mots de passe numériques"
DESCRIPTION:Pour toutes questions ou inscription: \nTéléphone :  01 60 10 22 34 \nMail : bienvenue@placedunumerique.com
URL:https://www.caton-paris-saclay.org/evenements/atelier-gerer-ses-mots-de-passe-numeriques/
LOCATION:9 avenue de france massy\, 9 avenue de France\, Massy\, 91300
END:VEVENT
BEGIN:VEVENT
DTSTART;TZID=Europe/Paris:20260422T050022
DTEND;TZID=Europe/Paris:20251208T160000
DTSTAMP:20260422T050022
CREATED:20251203T123119Z
LAST-MODIFIED:20251203T123142Z
UID:12662-0-1765209600@www.caton-paris-saclay.org
SUMMARY:Atelier CAF pour vos démarches en ligne
DESCRIPTION:Vous avez des difficultés pour faire vos démarches en ligne ? \nLa CAF vous propose des ateliers numériques individuels ou collectifs pour apprendre à utiliser caf.fr et l’appli mobile. \nGratuit. \nPour toutes questions ou inscription: \nTéléphone :  01 60 10 22 34 \nMail : bienvenue@placedunumerique.com
URL:https://www.caton-paris-saclay.org/evenements/atelier-caf-5/
LOCATION:9 avenue de france massy\, 9 avenue de France\, Massy\, 91300
END:VEVENT
BEGIN:VEVENT
DTSTART;VALUE=DATE:20250503
DTEND;VALUE=DATE:20250504
DTSTAMP:20260422T050022
CREATED:20250507T180321Z
LAST-MODIFIED:20250507T180321Z
UID:12093-1746230400-1746316799@www.caton-paris-saclay.org
SUMMARY:Salon du livre DIMENSION de Palaiseau
DESCRIPTION:Le samedi 3 mai 2025\, la Ville de Palaiseau ouvre ses portes à une convergence unique entre la science et la fiction avec la seconde édition de son salon du livre “DIMENSION” ! \nAprès une première édition couronnée de succès\, le salon du livre DIMENSION revient pour un deuxième chapitre encore plus ambitieux ! Organisé en partenariat avec La Fringale Culturelle et la Librairie La Fontaine aux Livres\, cet événement unique célèbre la rencontre entre littérature et sciences\, imaginaires et innovations. \nPalaiseau\, autrefois terre d’inspiration pour George Sand\, Alexandre Dumas et Charles Péguy\, est aujourd’hui un haut lieu de l’innovation grâce au cluster Paris-Saclay. Ce carrefour entre patrimoine et modernité fait de la ville un écrin idéal pour accueillir DIMENSION\, un salon où science-fiction\, vulgarisation scientifique et réflexion sur le futur se croisent pour mieux comprendre le monde de demain. \nDIMENSION\, c’est l’opportunité de plonger dans des récits visionnaires\, d’explorer les liens entre science et fiction\, et de rencontrer des auteurs et autrices passionnés\, issus de divers horizons. \nTout au long de la journée\, des tables rondes\, cercles d’auteurs\, expositions et séances de dédicaces offriront au public un moment d’échange et de réflexion sur les grandes thématiques qui façonnent notre époque. Que vous soyez passionné de SF\, amateur de BD\, féru de sciences ou simple curieux\, ce salon est une invitation à rêver\, apprendre et échanger sur le monde d’aujourd’hui et de demain.
URL:https://www.caton-paris-saclay.org/evenements/salon-du-livre-dimension-de-palaiseau/
LOCATION:Mairie Palaiseau\, 91 rue de Paris\, Palaiseau\, 91120\, France
END:VEVENT
END:VCALENDAR