BEGIN:VCALENDAR
VERSION:2.0
PRODID:-//CATON PARIS-SACLAY - ECPv6.6.2//NONSGML v1.0//EN
CALSCALE:GREGORIAN
METHOD:PUBLISH
X-WR-CALNAME:CATON PARIS-SACLAY
X-ORIGINAL-URL:https://www.caton-paris-saclay.org
X-WR-CALDESC:évènements pour CATON PARIS-SACLAY
REFRESH-INTERVAL;VALUE=DURATION:PT1H
X-Robots-Tag:noindex
X-PUBLISHED-TTL:PT1H
BEGIN:VTIMEZONE

END:VTIMEZONE
BEGIN:VEVENT
DTSTART;TZID=Europe/Paris:20260422T020256
DTEND;TZID=Europe/Paris:20250923T160000
DTSTAMP:20260422T020256
CREATED:20250919T145722Z
LAST-MODIFIED:20250919T145722Z
UID:12555-0-1758643200@www.caton-paris-saclay.org
SUMMARY:Atelier "Gérer ses mots de passe numériques"
DESCRIPTION:Pour toutes questions ou inscription: \nTéléphone :  01 60 10 22 34 \nMail : bienvenue@placedunumerique.com
URL:https://www.caton-paris-saclay.org/evenements/atelier-gerer-ses-mots-de-passe-numeriques/
LOCATION:9 avenue de france massy\, 9 avenue de France\, Massy\, 91300
END:VEVENT
BEGIN:VEVENT
DTSTART;TZID=Europe/Paris:20260422T020256
DTEND;TZID=Europe/Paris:20251208T160000
DTSTAMP:20260422T020256
CREATED:20251203T123119Z
LAST-MODIFIED:20251203T123142Z
UID:12662-0-1765209600@www.caton-paris-saclay.org
SUMMARY:Atelier CAF pour vos démarches en ligne
DESCRIPTION:Vous avez des difficultés pour faire vos démarches en ligne ? \nLa CAF vous propose des ateliers numériques individuels ou collectifs pour apprendre à utiliser caf.fr et l’appli mobile. \nGratuit. \nPour toutes questions ou inscription: \nTéléphone :  01 60 10 22 34 \nMail : bienvenue@placedunumerique.com
URL:https://www.caton-paris-saclay.org/evenements/atelier-caf-5/
LOCATION:9 avenue de france massy\, 9 avenue de France\, Massy\, 91300
END:VEVENT
BEGIN:VEVENT
DTSTART;TZID=Europe/Paris:20250708T141500
DTEND;TZID=Europe/Paris:20250708T160000
DTSTAMP:20260422T020256
CREATED:20250730T130111Z
LAST-MODIFIED:20250730T130111Z
UID:12387-1751984100-1751990400@www.caton-paris-saclay.org
SUMMARY:Initiation à la maintenance informatique
DESCRIPTION:
URL:https://www.caton-paris-saclay.org/evenements/initiation-a-la-maintenance-informatique/
LOCATION:9 avenue de france massy\, 9 avenue de France\, Massy\, 91300
END:VEVENT
BEGIN:VEVENT
DTSTART;TZID=Europe/Paris:20250708T161500
DTEND;TZID=Europe/Paris:20250708T174500
DTSTAMP:20260422T020256
CREATED:20250730T105607Z
LAST-MODIFIED:20250730T105607Z
UID:12376-1751991300-1751996700@www.caton-paris-saclay.org
SUMMARY:Initiation au Tableur
DESCRIPTION:Découvrez les bases du tableur pour faciliter votre organisation.
URL:https://www.caton-paris-saclay.org/evenements/initiation-au-tableur/
LOCATION:9 avenue de france massy\, 9 avenue de France\, Massy\, 91300
END:VEVENT
END:VCALENDAR