BEGIN:VCALENDAR
VERSION:2.0
PRODID:-//CATON PARIS-SACLAY - ECPv6.6.2//NONSGML v1.0//EN
CALSCALE:GREGORIAN
METHOD:PUBLISH
X-ORIGINAL-URL:https://www.caton-paris-saclay.org
X-WR-CALDESC:évènements pour CATON PARIS-SACLAY
REFRESH-INTERVAL;VALUE=DURATION:PT1H
X-Robots-Tag:noindex
X-PUBLISHED-TTL:PT1H
BEGIN:VTIMEZONE

END:VTIMEZONE
BEGIN:VEVENT
DTSTART;TZID=Europe/Paris:20260422T014709
DTEND;TZID=Europe/Paris:20250923T160000
DTSTAMP:20260422T014709
CREATED:20250919T145722Z
LAST-MODIFIED:20250919T145722Z
UID:12555-0-1758643200@www.caton-paris-saclay.org
SUMMARY:Atelier "Gérer ses mots de passe numériques"
DESCRIPTION:Pour toutes questions ou inscription: \nTéléphone :  01 60 10 22 34 \nMail : bienvenue@placedunumerique.com
URL:https://www.caton-paris-saclay.org/evenements/atelier-gerer-ses-mots-de-passe-numeriques/
LOCATION:9 avenue de france massy\, 9 avenue de France\, Massy\, 91300
END:VEVENT
BEGIN:VEVENT
DTSTART;TZID=Europe/Paris:20260422T014709
DTEND;TZID=Europe/Paris:20251208T160000
DTSTAMP:20260422T014709
CREATED:20251203T123119Z
LAST-MODIFIED:20251203T123142Z
UID:12662-0-1765209600@www.caton-paris-saclay.org
SUMMARY:Atelier CAF pour vos démarches en ligne
DESCRIPTION:Vous avez des difficultés pour faire vos démarches en ligne ? \nLa CAF vous propose des ateliers numériques individuels ou collectifs pour apprendre à utiliser caf.fr et l’appli mobile. \nGratuit. \nPour toutes questions ou inscription: \nTéléphone :  01 60 10 22 34 \nMail : bienvenue@placedunumerique.com
URL:https://www.caton-paris-saclay.org/evenements/atelier-caf-5/
LOCATION:9 avenue de france massy\, 9 avenue de France\, Massy\, 91300
END:VEVENT
BEGIN:VEVENT
DTSTART;TZID=Europe/Paris:20250721T100000
DTEND;TZID=Europe/Paris:20250721T120000
DTSTAMP:20260422T014709
CREATED:20250730T105726Z
LAST-MODIFIED:20250730T105726Z
UID:12378-1753092000-1753099200@www.caton-paris-saclay.org
SUMMARY:Booster sa recherche d'emploi avec LinkedIn
DESCRIPTION:
URL:https://www.caton-paris-saclay.org/evenements/booster-sa-recherche-demploi-avec-linkedin/
LOCATION:9 avenue de france massy\, 9 avenue de France\, Massy\, 91300
END:VEVENT
BEGIN:VEVENT
DTSTART;TZID=Europe/Paris:20250721T141500
DTEND;TZID=Europe/Paris:20250721T160000
DTSTAMP:20260422T014709
CREATED:20250730T104917Z
LAST-MODIFIED:20250730T104917Z
UID:12368-1753107300-1753113600@www.caton-paris-saclay.org
SUMMARY:Atelier CAF
DESCRIPTION:Découvrez la plateforme CAF lors d’une animation assurée par le pôle de déploiement numérique CAF. \nTous les lundis.
URL:https://www.caton-paris-saclay.org/evenements/atelier-caf-3/
LOCATION:9 avenue de france massy\, 9 avenue de France\, Massy\, 91300
END:VEVENT
END:VCALENDAR