BEGIN:VCALENDAR
VERSION:2.0
PRODID:-//CATON PARIS-SACLAY - ECPv6.6.2//NONSGML v1.0//EN
CALSCALE:GREGORIAN
METHOD:PUBLISH
X-WR-CALNAME:CATON PARIS-SACLAY
X-ORIGINAL-URL:https://www.caton-paris-saclay.org
X-WR-CALDESC:évènements pour CATON PARIS-SACLAY
REFRESH-INTERVAL;VALUE=DURATION:PT1H
X-Robots-Tag:noindex
X-PUBLISHED-TTL:PT1H
BEGIN:VTIMEZONE

END:VTIMEZONE
BEGIN:VEVENT
DTSTART;TZID=Europe/Paris:20260421T215100
DTEND;TZID=Europe/Paris:20251208T160000
DTSTAMP:20260421T215100
CREATED:20251203T123119Z
LAST-MODIFIED:20251203T123142Z
UID:12662-0-1765209600@www.caton-paris-saclay.org
SUMMARY:Atelier CAF pour vos démarches en ligne
DESCRIPTION:Vous avez des difficultés pour faire vos démarches en ligne ? \nLa CAF vous propose des ateliers numériques individuels ou collectifs pour apprendre à utiliser caf.fr et l’appli mobile. \nGratuit. \nPour toutes questions ou inscription: \nTéléphone :  01 60 10 22 34 \nMail : bienvenue@placedunumerique.com
URL:https://www.caton-paris-saclay.org/evenements/atelier-caf-5/
LOCATION:9 avenue de france massy\, 9 avenue de France\, Massy\, 91300
END:VEVENT
BEGIN:VEVENT
DTSTART;TZID=Europe/Paris:20250929T100000
DTEND;TZID=Europe/Paris:20250929T120000
DTSTAMP:20260421T215100
CREATED:20250919T150050Z
LAST-MODIFIED:20250919T150050Z
UID:12561-1759140000-1759147200@www.caton-paris-saclay.org
SUMMARY:Atelier "Apprendre à gérer ses mails"
DESCRIPTION:Pour toutes questions ou inscription: \nTéléphone :  01 60 10 22 34 \nMail : bienvenue@placedunumerique.com
URL:https://www.caton-paris-saclay.org/evenements/atelier-apprendre-a-gerer-ses-mails/
LOCATION:9 avenue de france massy\, 9 avenue de France\, Massy\, 91300
END:VEVENT
BEGIN:VEVENT
DTSTART;TZID=Europe/Paris:20250929T141500
DTEND;TZID=Europe/Paris:20250929T160000
DTSTAMP:20260421T215100
CREATED:20250919T144753Z
LAST-MODIFIED:20250919T144753Z
UID:12541-1759155300-1759161600@www.caton-paris-saclay.org
SUMMARY:Atelier numérique CAF 91
DESCRIPTION:Vous avez des difficultés pour faire vos démarches en ligne ? \nLa CAF 91 vous propose des ateliers numériques individuels pour apprendre à utiliser caf.fr et l’appli mobile.  \nPour toutes questions ou inscription: \nTéléphone :  01 60 10 22 34 \nMail : bienvenue@placedunumerique.com
URL:https://www.caton-paris-saclay.org/evenements/atelier-numerique-caf-91-4/
LOCATION:9 avenue de france massy\, 9 avenue de France\, Massy\, 91300
END:VEVENT
END:VCALENDAR