BEGIN:VCALENDAR
VERSION:2.0
PRODID:-//CATON PARIS-SACLAY - ECPv6.6.2//NONSGML v1.0//EN
CALSCALE:GREGORIAN
METHOD:PUBLISH
X-WR-CALNAME:CATON PARIS-SACLAY
X-ORIGINAL-URL:https://www.caton-paris-saclay.org
X-WR-CALDESC:évènements pour CATON PARIS-SACLAY
REFRESH-INTERVAL;VALUE=DURATION:PT1H
X-Robots-Tag:noindex
X-PUBLISHED-TTL:PT1H
BEGIN:VTIMEZONE

END:VTIMEZONE
BEGIN:VEVENT
DTSTART;TZID=Europe/Paris:20260421T202851
DTEND;TZID=Europe/Paris:20251208T160000
DTSTAMP:20260421T202851
CREATED:20251203T123119Z
LAST-MODIFIED:20251203T123142Z
UID:12662-0-1765209600@www.caton-paris-saclay.org
SUMMARY:Atelier CAF pour vos démarches en ligne
DESCRIPTION:Vous avez des difficultés pour faire vos démarches en ligne ? \nLa CAF vous propose des ateliers numériques individuels ou collectifs pour apprendre à utiliser caf.fr et l’appli mobile. \nGratuit. \nPour toutes questions ou inscription: \nTéléphone :  01 60 10 22 34 \nMail : bienvenue@placedunumerique.com
URL:https://www.caton-paris-saclay.org/evenements/atelier-caf-5/
LOCATION:9 avenue de france massy\, 9 avenue de France\, Massy\, 91300
END:VEVENT
BEGIN:VEVENT
DTSTART;TZID=Europe/Paris:20251103T141500
DTEND;TZID=Europe/Paris:20251116T160000
DTSTAMP:20260421T202851
CREATED:20250919T151236Z
LAST-MODIFIED:20250919T151236Z
UID:12571-1762179300-1763308800@www.caton-paris-saclay.org
SUMMARY:Ateliers numériques de la CAF 91
DESCRIPTION:Vous avez des difficultés pour faire vos démarches en ligne ? \nLa CAF 91 vous propose des ateliers numériques individuels pour apprendre à utiliser caf.fr et l’appli mobile.  \nPour toutes questions ou inscription: \nTéléphone :  01 60 10 22 34 \nMail : bienvenue@placedunumerique.com
URL:https://www.caton-paris-saclay.org/evenements/ateliers-numeriques-de-la-caf-91/
LOCATION:9 avenue de france massy\, 9 avenue de France\, Massy\, 91300
END:VEVENT
BEGIN:VEVENT
DTSTART;TZID=Europe/Paris:20251114T100000
DTEND;TZID=Europe/Paris:20251114T120000
DTSTAMP:20260421T202851
CREATED:20251027T235056Z
LAST-MODIFIED:20251027T235056Z
UID:12636-1763114400-1763121600@www.caton-paris-saclay.org
SUMMARY:Atelier "Premiers pas sur Internet - Sécuriser mes documents sur mon ordinateur"
DESCRIPTION:Atelier gratuit ouvert à tous et toutes pour apprendre à sécuriser ses documents administratifs sur son ordinateur et sur Internet. \nPar exemple : stocker et protéger des documents qui contiennent des données personnelles comme votre nom ou votre adresse\, choisir les bons mots de passe\, se protéger des menaces et des arnaques. \nInformations et inscriptions auprès de la Place du Numérique. \nTéléphone : 01 60 10 22 34 \nMail : bienvenue@placedunumerique.com
URL:https://www.caton-paris-saclay.org/evenements/atelier-premiers-pas-sur-internet-securiser-mes-documents-sur-mon-ordinateur/
LOCATION:9 avenue de france massy\, 9 avenue de France\, Massy\, 91300
END:VEVENT
END:VCALENDAR