BEGIN:VCALENDAR
VERSION:2.0
PRODID:-//CATON PARIS-SACLAY - ECPv6.6.2//NONSGML v1.0//EN
CALSCALE:GREGORIAN
METHOD:PUBLISH
X-WR-CALNAME:CATON PARIS-SACLAY
X-ORIGINAL-URL:https://www.caton-paris-saclay.org
X-WR-CALDESC:évènements pour CATON PARIS-SACLAY
REFRESH-INTERVAL;VALUE=DURATION:PT1H
X-Robots-Tag:noindex
X-PUBLISHED-TTL:PT1H
BEGIN:VTIMEZONE

END:VTIMEZONE
BEGIN:VEVENT
DTSTART;TZID=Europe/Paris:20260421T202829
DTEND;TZID=Europe/Paris:20251208T160000
DTSTAMP:20260421T202829
CREATED:20251203T123119Z
LAST-MODIFIED:20251203T123142Z
UID:12662-0-1765209600@www.caton-paris-saclay.org
SUMMARY:Atelier CAF pour vos démarches en ligne
DESCRIPTION:Vous avez des difficultés pour faire vos démarches en ligne ? \nLa CAF vous propose des ateliers numériques individuels ou collectifs pour apprendre à utiliser caf.fr et l’appli mobile. \nGratuit. \nPour toutes questions ou inscription: \nTéléphone :  01 60 10 22 34 \nMail : bienvenue@placedunumerique.com
URL:https://www.caton-paris-saclay.org/evenements/atelier-caf-5/
LOCATION:9 avenue de france massy\, 9 avenue de France\, Massy\, 91300
END:VEVENT
BEGIN:VEVENT
DTSTART;TZID=Europe/Paris:20251121T100000
DTEND;TZID=Europe/Paris:20251121T120000
DTSTAMP:20260421T202829
CREATED:20251028T000101Z
LAST-MODIFIED:20251028T000101Z
UID:12640-1763719200-1763726400@www.caton-paris-saclay.org
SUMMARY:Atelier "Initiation à l'outil de design CANVA"
DESCRIPTION:Atelier gratuit pour s’initier à Canva : un outil numérique de design\, de graphisme et de création pour créer des logos\, des présentations\, des propositions commerciales et autres. \nUn outil en ligne facile\, accessible et intuitif pour créer ses idées. \nInformations et inscriptions auprès de la Place du Numérique. \nTéléphone : 01 60 10 22 34 \nMail : bienvenue@placedunumerique.com
URL:https://www.caton-paris-saclay.org/evenements/atelier-initiation-a-loutil-de-design-canva/
LOCATION:9 avenue de france massy\, 9 avenue de France\, Massy\, 91300
END:VEVENT
END:VCALENDAR