BEGIN:VCALENDAR
VERSION:2.0
PRODID:-//CATON PARIS-SACLAY - ECPv6.6.2//NONSGML v1.0//EN
CALSCALE:GREGORIAN
METHOD:PUBLISH
X-ORIGINAL-URL:https://www.caton-paris-saclay.org
X-WR-CALDESC:évènements pour CATON PARIS-SACLAY
REFRESH-INTERVAL;VALUE=DURATION:PT1H
X-Robots-Tag:noindex
X-PUBLISHED-TTL:PT1H
BEGIN:VTIMEZONE

END:VTIMEZONE
BEGIN:VEVENT
DTSTART;TZID=Europe/Paris:20260421T203300
DTEND;TZID=Europe/Paris:20251208T160000
DTSTAMP:20260421T203300
CREATED:20251203T123119Z
LAST-MODIFIED:20251203T123142Z
UID:12662-0-1765209600@www.caton-paris-saclay.org
SUMMARY:Atelier CAF pour vos démarches en ligne
DESCRIPTION:Vous avez des difficultés pour faire vos démarches en ligne ? \nLa CAF vous propose des ateliers numériques individuels ou collectifs pour apprendre à utiliser caf.fr et l’appli mobile. \nGratuit. \nPour toutes questions ou inscription: \nTéléphone :  01 60 10 22 34 \nMail : bienvenue@placedunumerique.com
URL:https://www.caton-paris-saclay.org/evenements/atelier-caf-5/
LOCATION:9 avenue de france massy\, 9 avenue de France\, Massy\, 91300
END:VEVENT
BEGIN:VEVENT
DTSTART;TZID=Europe/Paris:20251126T103000
DTEND;TZID=Europe/Paris:20251126T130000
DTSTAMP:20260421T203300
CREATED:20251028T000608Z
LAST-MODIFIED:20251028T000631Z
UID:12644-1764153000-1764162000@www.caton-paris-saclay.org
SUMMARY:Club enfants Jeux vidéo "Jouer autrement" OUTSEEDERS
DESCRIPTION:Club Jeux vidéos gratuit pour les enfants de 5 à 11 ans. \nInformations et inscriptions auprès de la Place du Numérique. \nTéléphone : 01 60 10 22 34 \nMail : bienvenue@placedunumerique.com
URL:https://www.caton-paris-saclay.org/evenements/club-enfants-jeux-video-jouer-autrement/
LOCATION:9 avenue de france massy\, 9 avenue de France\, Massy\, 91300
END:VEVENT
BEGIN:VEVENT
DTSTART;TZID=Europe/Paris:20251126T140000
DTEND;TZID=Europe/Paris:20251126T170000
DTSTAMP:20260421T203300
CREATED:20251028T000819Z
LAST-MODIFIED:20251028T000819Z
UID:12647-1764165600-1764176400@www.caton-paris-saclay.org
SUMMARY:Club ADOS Jeux vidéo "Jouer autrement" OUTSEEDERS
DESCRIPTION:Club gratuit Jeux vidéos pour les ados de 12 à 17 ans. \nInformations et inscriptions auprès de la Place du Numérique. \nTéléphone : 01 60 10 22 34 \nMail : bienvenue@placedunumerique.com
URL:https://www.caton-paris-saclay.org/evenements/club-ados-jeux-video-jouer-autrement-outseeders/
LOCATION:9 avenue de france massy\, 9 avenue de France\, Massy\, 91300
END:VEVENT
END:VCALENDAR