BEGIN:VCALENDAR
VERSION:2.0
PRODID:-//CATON PARIS-SACLAY - ECPv6.6.2//NONSGML v1.0//EN
CALSCALE:GREGORIAN
METHOD:PUBLISH
X-ORIGINAL-URL:https://www.caton-paris-saclay.org
X-WR-CALDESC:évènements pour CATON PARIS-SACLAY
REFRESH-INTERVAL;VALUE=DURATION:PT1H
X-Robots-Tag:noindex
X-PUBLISHED-TTL:PT1H
BEGIN:VTIMEZONE
TZID:Europe/Paris
BEGIN:DAYLIGHT
TZOFFSETFROM:+0100
TZOFFSETTO:+0200
TZNAME:CEST
DTSTART:20250330T010000
END:DAYLIGHT
BEGIN:STANDARD
TZOFFSETFROM:+0200
TZOFFSETTO:+0100
TZNAME:CET
DTSTART:20251026T010000
END:STANDARD
END:VTIMEZONE
BEGIN:VEVENT
DTSTART;VALUE=DATE:20251208
DTEND;VALUE=DATE:20251214
DTSTAMP:20260421T191103
CREATED:20250730T135214Z
LAST-MODIFIED:20250730T135214Z
UID:12426-1765152000-1765670399@www.caton-paris-saclay.org
SUMMARY:Semaine du Numérique et des Sciences Informatiques (NSI)
DESCRIPTION:La Semaine du numérique et des sciences informatiques\, un rendez-vous national pour faire découvrir la diversité des formations et des métiers du numérique et de l’informatique et accompagner les jeunes dans leur orientation scolaire. \nLa troisième Semaine du numérique et des sciences informatiques se tiendra du 8 au 13 décembre 2025 partout en France et à distance. \nQue vous soyez une entreprise\, une association\, une administration\, un établissement de l’enseignement supérieur\, un centre de recherche\, un établissement scolaire ou un professeur… vous pouvez toutes et tous contribuer à cette action. \nProfitez de cette semaine pour aborder des thèmes passionnants avec les jeunes (les métiers de demain\, les voies possibles pour faire carrière)\, et véhiculer l’image d’un secteur innovant et dynamique ! \nEn 2023\, plus de 580 dates qui ont été proposées permettant de toucher plus de 18 000 jeunes. \nEn 2024\, près de 430 dates ont été recensées permettant de toucher plus de 20 000 jeunes. \nLien de l’évènement : https://www.semaine-nsi.fr/presentation/
URL:https://www.caton-paris-saclay.org/evenements/semaine-du-numerique-et-des-sciences-informatiques-nsi/
END:VEVENT
END:VCALENDAR