BEGIN:VCALENDAR
VERSION:2.0
PRODID:-//CATON PARIS-SACLAY - ECPv6.6.2//NONSGML v1.0//EN
CALSCALE:GREGORIAN
METHOD:PUBLISH
X-ORIGINAL-URL:https://www.caton-paris-saclay.org
X-WR-CALDESC:évènements pour CATON PARIS-SACLAY
REFRESH-INTERVAL;VALUE=DURATION:PT1H
X-Robots-Tag:noindex
X-PUBLISHED-TTL:PT1H
BEGIN:VTIMEZONE
TZID:Europe/Paris
BEGIN:DAYLIGHT
TZOFFSETFROM:+0100
TZOFFSETTO:+0200
TZNAME:CEST
DTSTART:20260329T010000
END:DAYLIGHT
BEGIN:STANDARD
TZOFFSETFROM:+0200
TZOFFSETTO:+0100
TZNAME:CET
DTSTART:20261025T010000
END:STANDARD
END:VTIMEZONE
BEGIN:VEVENT
DTSTART;TZID=Europe/Paris:20260119T141500
DTEND;TZID=Europe/Paris:20260119T160000
DTSTAMP:20260421T175348
CREATED:20251203T134352Z
LAST-MODIFIED:20251203T134352Z
UID:12705-1768832100-1768838400@www.caton-paris-saclay.org
SUMMARY:Atelier avec la CAF pour vos démarches administratives
DESCRIPTION:Découvrez la plateforme CAF.fr lors de cet atelier assuré par le pôle de déploiement numérique de la CAF. Gratuit. \nPour toutes questions ou inscription: \nTéléphone :  01 60 10 22 34 \nMail : bienvenue@placedunumerique.com
URL:https://www.caton-paris-saclay.org/evenements/atelier-avec-la-caf-pour-vos-demarches-administratives-3/
LOCATION:9 avenue de france massy\, 9 avenue de France\, Massy\, 91300
END:VEVENT
END:VCALENDAR