BEGIN:VCALENDAR
VERSION:2.0
PRODID:-//CATON PARIS-SACLAY - ECPv6.6.2//NONSGML v1.0//EN
CALSCALE:GREGORIAN
METHOD:PUBLISH
X-WR-CALNAME:CATON PARIS-SACLAY
X-ORIGINAL-URL:https://www.caton-paris-saclay.org
X-WR-CALDESC:évènements pour CATON PARIS-SACLAY
REFRESH-INTERVAL;VALUE=DURATION:PT1H
X-Robots-Tag:noindex
X-PUBLISHED-TTL:PT1H
BEGIN:VTIMEZONE
TZID:Europe/Paris
BEGIN:DAYLIGHT
TZOFFSETFROM:+0100
TZOFFSETTO:+0200
TZNAME:CEST
DTSTART:20260329T010000
END:DAYLIGHT
BEGIN:STANDARD
TZOFFSETFROM:+0200
TZOFFSETTO:+0100
TZNAME:CET
DTSTART:20261025T010000
END:STANDARD
END:VTIMEZONE
BEGIN:VEVENT
DTSTART;TZID=Europe/Paris:20260305T140000
DTEND;TZID=Europe/Paris:20260305T170000
DTSTAMP:20260421T135727
CREATED:20251203T135644Z
LAST-MODIFIED:20260114T113552Z
UID:12719-1772719200-1772730000@www.caton-paris-saclay.org
SUMMARY:Session "Initiation à l'orientation vers la médiation numérique" - Privé
DESCRIPTION:Participez à cette session d’initiation à l’orientation des personnes en difficulté numérique vers les services de médiation numérique locaux. A destination particulièrement des acteurs sociaux et solidaires du nord-ouest Essonne. \nVenez acquérir les bases pour être “relais” d’orientation des publics que vous accompagnez vers les services de médiation numérique adaptés. \nEn collaboration avec l’association CATON. \nGratuit\, sur inscription. \nTéléphone :  01 60 10 22 34 \nMail : bienvenue@placedunumerique.com
URL:https://www.caton-paris-saclay.org/evenements/session-initiation-a-lorientation-vers-la-mediation-numerique-prive/
LOCATION:9 avenue de france massy\, 9 avenue de France\, Massy\, 91300
END:VEVENT
END:VCALENDAR