BEGIN:VCALENDAR
VERSION:2.0
PRODID:-//CATON PARIS-SACLAY - ECPv6.6.2//NONSGML v1.0//EN
CALSCALE:GREGORIAN
METHOD:PUBLISH
X-ORIGINAL-URL:https://www.caton-paris-saclay.org
X-WR-CALDESC:évènements pour CATON PARIS-SACLAY
REFRESH-INTERVAL;VALUE=DURATION:PT1H
X-Robots-Tag:noindex
X-PUBLISHED-TTL:PT1H
BEGIN:VTIMEZONE

END:VTIMEZONE
BEGIN:VEVENT
DTSTART;TZID=Europe/Paris:20260422T045923
DTEND;TZID=Europe/Paris:20250923T160000
DTSTAMP:20260422T045923
CREATED:20250919T145722Z
LAST-MODIFIED:20250919T145722Z
UID:12555-0-1758643200@www.caton-paris-saclay.org
SUMMARY:Atelier "Gérer ses mots de passe numériques"
DESCRIPTION:Pour toutes questions ou inscription: \nTéléphone :  01 60 10 22 34 \nMail : bienvenue@placedunumerique.com
URL:https://www.caton-paris-saclay.org/evenements/atelier-gerer-ses-mots-de-passe-numeriques/
LOCATION:9 avenue de france massy\, 9 avenue de France\, Massy\, 91300
END:VEVENT
BEGIN:VEVENT
DTSTART;TZID=Europe/Paris:20260422T045923
DTEND;TZID=Europe/Paris:20251208T160000
DTSTAMP:20260422T045923
CREATED:20251203T123119Z
LAST-MODIFIED:20251203T123142Z
UID:12662-0-1765209600@www.caton-paris-saclay.org
SUMMARY:Atelier CAF pour vos démarches en ligne
DESCRIPTION:Vous avez des difficultés pour faire vos démarches en ligne ? \nLa CAF vous propose des ateliers numériques individuels ou collectifs pour apprendre à utiliser caf.fr et l’appli mobile. \nGratuit. \nPour toutes questions ou inscription: \nTéléphone :  01 60 10 22 34 \nMail : bienvenue@placedunumerique.com
URL:https://www.caton-paris-saclay.org/evenements/atelier-caf-5/
LOCATION:9 avenue de france massy\, 9 avenue de France\, Massy\, 91300
END:VEVENT
BEGIN:VEVENT
DTSTART;TZID=Europe/Paris:20250402T100000
DTEND;TZID=Europe/Paris:20250402T130000
DTSTAMP:20260422T045923
CREATED:20250507T174515Z
LAST-MODIFIED:20250507T174515Z
UID:12078-1743588000-1743598800@www.caton-paris-saclay.org
SUMMARY:Club Jeux Vidéos - CE2 CM2
DESCRIPTION:Contacter la Place du Numérique.
URL:https://www.caton-paris-saclay.org/evenements/club-jeux-videos-ce2-cm2-4/
LOCATION:9 avenue de france massy\, 9 avenue de France\, Massy\, 91300
END:VEVENT
BEGIN:VEVENT
DTSTART;TZID=Europe/Paris:20250402T140000
DTEND;TZID=Europe/Paris:20250402T170000
DTSTAMP:20260422T045923
CREATED:20250507T174629Z
LAST-MODIFIED:20250507T174629Z
UID:12080-1743602400-1743613200@www.caton-paris-saclay.org
SUMMARY:Club Jeux Vidéos - Collèges et Lycées
DESCRIPTION:Contacter la Place du Numérique.
URL:https://www.caton-paris-saclay.org/evenements/club-jeux-videos-colleges-et-lycees/
LOCATION:9 avenue de france massy\, 9 avenue de France\, Massy\, 91300
END:VEVENT
BEGIN:VEVENT
DTSTART;TZID=Europe/Paris:20250407T141500
DTEND;TZID=Europe/Paris:20250407T160000
DTSTAMP:20260422T045923
CREATED:20250507T172838Z
LAST-MODIFIED:20250507T172838Z
UID:12056-1744035300-1744041600@www.caton-paris-saclay.org
SUMMARY:Atelier CAF 91 - Pôle Déploiement numérique
DESCRIPTION:Tous les lundis à la Place du Numérique à Massy. Sur inscription.
URL:https://www.caton-paris-saclay.org/evenements/atelier-caf-91-pole-deploiement-numerique/
LOCATION:9 avenue de france massy\, 9 avenue de France\, Massy\, 91300
END:VEVENT
BEGIN:VEVENT
DTSTART;TZID=Europe/Paris:20250409T100000
DTEND;TZID=Europe/Paris:20250409T130000
DTSTAMP:20260422T045923
CREATED:20250507T174408Z
LAST-MODIFIED:20250507T174408Z
UID:12076-1744192800-1744203600@www.caton-paris-saclay.org
SUMMARY:Club Jeux Vidéos - CE2 CM2
DESCRIPTION:Contacter la Place du Numérique.
URL:https://www.caton-paris-saclay.org/evenements/club-jeux-videos-ce2-cm2-3/
LOCATION:9 avenue de france massy\, 9 avenue de France\, Massy\, 91300
END:VEVENT
BEGIN:VEVENT
DTSTART;TZID=Europe/Paris:20250409T140000
DTEND;TZID=Europe/Paris:20250409T170000
DTSTAMP:20260422T045923
CREATED:20250507T174733Z
LAST-MODIFIED:20250507T174733Z
UID:12082-1744207200-1744218000@www.caton-paris-saclay.org
SUMMARY:Club Jeux Vidéos - Collèges et Lycées
DESCRIPTION:Contacter la Place du Numérique.
URL:https://www.caton-paris-saclay.org/evenements/club-jeux-videos-colleges-et-lycees-2/
LOCATION:9 avenue de france massy\, 9 avenue de France\, Massy\, 91300
END:VEVENT
BEGIN:VEVENT
DTSTART;TZID=Europe/Paris:20250411T140000
DTEND;TZID=Europe/Paris:20250411T160000
DTSTAMP:20260422T045923
CREATED:20250507T170108Z
LAST-MODIFIED:20250507T170108Z
UID:12040-1744380000-1744387200@www.caton-paris-saclay.org
SUMMARY:Atelier "Insertion professionnelle" avec l'association EFAPO
DESCRIPTION:Atelier de recherche d’emploi\, de formation et de création d’entreprise par l’association EFAPO\, à la Place du Numérique à Massy. \nEFAPO est une Association de Chilly-Mazarin à but non lucratif\, régie par la Loi N°1901 régulièrement enregistrée au niveau de la Préfecture de police. Elle est née à l’initiative d’un petit comité -femmes et hommes\, de plusieurs nationalités\, tant africaines que française.
URL:https://www.caton-paris-saclay.org/evenements/atelier-insertion-professionnelle-avec-lassociation-efapo/
LOCATION:9 avenue de france massy\, 9 avenue de France\, Massy\, 91300
END:VEVENT
BEGIN:VEVENT
DTSTART;TZID=Europe/Paris:20250414T141500
DTEND;TZID=Europe/Paris:20250414T160000
DTSTAMP:20260422T045923
CREATED:20250507T173003Z
LAST-MODIFIED:20250507T173003Z
UID:12058-1744640100-1744646400@www.caton-paris-saclay.org
SUMMARY:Atelier Café IA - Pôle Déploiement numérique.
DESCRIPTION:Tous les lundis à la Place du Numérique à Massy. Sur inscription.
URL:https://www.caton-paris-saclay.org/evenements/atelier-cafe-ia-pole-deploiement-numerique/
LOCATION:9 avenue de france massy\, 9 avenue de France\, Massy\, 91300
END:VEVENT
BEGIN:VEVENT
DTSTART;TZID=Europe/Paris:20250415T140000
DTEND;TZID=Europe/Paris:20250415T160000
DTSTAMP:20260422T045923
CREATED:20250507T170410Z
LAST-MODIFIED:20250507T170436Z
UID:12043-1744725600-1744732800@www.caton-paris-saclay.org
SUMMARY:Atelier "Insertion professionnelle" avec EFAPO
DESCRIPTION:Atelier de recherche d’emploi\, de formation et de création d’entreprise par l’association EFAPO\, à la Place du Numérique à Massy. \nEFAPO est une Association de Chilly-Mazarin à but non lucratif\, régie par la Loi N°1901 régulièrement enregistrée au niveau de la Préfecture de police. Elle est née à l’initiative d’un petit comité -femmes et hommes\, de plusieurs nationalités\, tant africaines que française.
URL:https://www.caton-paris-saclay.org/evenements/atelier-insertion-professionnelle-avec-efapo/
LOCATION:9 avenue de france massy\, 9 avenue de France\, Massy\, 91300
END:VEVENT
BEGIN:VEVENT
DTSTART;TZID=Europe/Paris:20250417T141500
DTEND;TZID=Europe/Paris:20250417T180000
DTSTAMP:20260422T045923
CREATED:20250507T171752Z
LAST-MODIFIED:20250507T171752Z
UID:12048-1744899300-1744912800@www.caton-paris-saclay.org
SUMMARY:Café IA : "Qu'est-ce que l'IA et ses usages ?"
DESCRIPTION:Premier Café IA à la Place du Numérique à Massy. \nPour que nous puissions tous et toutes discuter\, débattre\, échanger sur les usages du numérique\, et notamment sur l’Intelligence Artificielle. \nUne initiative portée par le Conseil National du Numérique. \nLien : https://cafeia.org/
URL:https://www.caton-paris-saclay.org/evenements/cafe-ia-quest-ce-que-lia-et-ses-usages/
LOCATION:9 avenue de france massy\, 9 avenue de France\, Massy\, 91300
END:VEVENT
BEGIN:VEVENT
DTSTART;TZID=Europe/Paris:20250421T141500
DTEND;TZID=Europe/Paris:20250421T180000
DTSTAMP:20260422T045923
CREATED:20250507T173136Z
LAST-MODIFIED:20250507T173136Z
UID:12060-1745244900-1745258400@www.caton-paris-saclay.org
SUMMARY:Atelier Café IA - Pôle Déploiement numérique
DESCRIPTION:Tous les lundis à la Place du Numérique à Massy. Sur inscription.
URL:https://www.caton-paris-saclay.org/evenements/atelier-cafe-ia-pole-deploiement-numerique-2/
LOCATION:9 avenue de france massy\, 9 avenue de France\, Massy\, 91300
END:VEVENT
BEGIN:VEVENT
DTSTART;TZID=Europe/Paris:20250428T141500
DTEND;TZID=Europe/Paris:20250428T180000
DTSTAMP:20260422T045923
CREATED:20250507T173316Z
LAST-MODIFIED:20250507T173316Z
UID:12062-1745849700-1745863200@www.caton-paris-saclay.org
SUMMARY:Atelier CAF 91 - Pôle Déploiement numérique
DESCRIPTION:Tous les lundis à la Place du Numérique à Massy. Sur inscription.
URL:https://www.caton-paris-saclay.org/evenements/atelier-caf-91-pole-deploiement-numerique-2/
LOCATION:9 avenue de france massy\, 9 avenue de France\, Massy\, 91300
END:VEVENT
END:VCALENDAR