BEGIN:VCALENDAR
VERSION:2.0
PRODID:-//CATON PARIS-SACLAY - ECPv6.6.2//NONSGML v1.0//EN
CALSCALE:GREGORIAN
METHOD:PUBLISH
X-ORIGINAL-URL:https://www.caton-paris-saclay.org
X-WR-CALDESC:évènements pour CATON PARIS-SACLAY
REFRESH-INTERVAL;VALUE=DURATION:PT1H
X-Robots-Tag:noindex
X-PUBLISHED-TTL:PT1H
BEGIN:VTIMEZONE
TZID:Europe/Paris
BEGIN:DAYLIGHT
TZOFFSETFROM:+0100
TZOFFSETTO:+0200
TZNAME:CEST
DTSTART:20260329T010000
END:DAYLIGHT
BEGIN:STANDARD
TZOFFSETFROM:+0200
TZOFFSETTO:+0100
TZNAME:CET
DTSTART:20261025T010000
END:STANDARD
END:VTIMEZONE
BEGIN:VEVENT
DTSTART;TZID=Europe/Paris:20260302T141500
DTEND;TZID=Europe/Paris:20260302T160000
DTSTAMP:20260421T123348
CREATED:20260414T112111Z
LAST-MODIFIED:20260414T112111Z
UID:13034-1772460900-1772467200@www.caton-paris-saclay.org
SUMMARY:Atelier découverte plateforme CAF\, tous les lundis.
DESCRIPTION:Atelier gratuit pour apprendre à utiliser le site de la CAF et effectuer vos démarches en ligne en toute autonomie : créer un compte\, faire une déclaration ou consulter vos droits.  \nAnimation par le pôle de déploiement numérique CAF. \nPour toutes questions ou inscription: \nTéléphone :  01 60 10 22 34 \nMail : bienvenue@placedunumerique.com \nSur place : 9 avenue de France 91300 Massy
URL:https://www.caton-paris-saclay.org/evenements/atelier-decouverte-plateforme-caf-tous-les-lundis-2/
LOCATION:9 avenue de france massy\, 9 avenue de France\, Massy\, 91300
END:VEVENT
BEGIN:VEVENT
DTSTART;TZID=Europe/Paris:20260305T140000
DTEND;TZID=Europe/Paris:20260305T170000
DTSTAMP:20260421T123348
CREATED:20251203T135644Z
LAST-MODIFIED:20260114T113552Z
UID:12719-1772719200-1772730000@www.caton-paris-saclay.org
SUMMARY:Session "Initiation à l'orientation vers la médiation numérique" - Privé
DESCRIPTION:Participez à cette session d’initiation à l’orientation des personnes en difficulté numérique vers les services de médiation numérique locaux. A destination particulièrement des acteurs sociaux et solidaires du nord-ouest Essonne. \nVenez acquérir les bases pour être “relais” d’orientation des publics que vous accompagnez vers les services de médiation numérique adaptés. \nEn collaboration avec l’association CATON. \nGratuit\, sur inscription. \nTéléphone :  01 60 10 22 34 \nMail : bienvenue@placedunumerique.com
URL:https://www.caton-paris-saclay.org/evenements/session-initiation-a-lorientation-vers-la-mediation-numerique-prive/
LOCATION:9 avenue de france massy\, 9 avenue de France\, Massy\, 91300
END:VEVENT
BEGIN:VEVENT
DTSTART;TZID=Europe/Paris:20260309T141500
DTEND;TZID=Europe/Paris:20260309T160000
DTSTAMP:20260421T123348
CREATED:20260414T112225Z
LAST-MODIFIED:20260414T112225Z
UID:13036-1773065700-1773072000@www.caton-paris-saclay.org
SUMMARY:Atelier découverte plateforme CAF\, tous les lundis.
DESCRIPTION:Atelier gratuit pour apprendre à utiliser le site de la CAF et effectuer vos démarches en ligne en toute autonomie : créer un compte\, faire une déclaration ou consulter vos droits.  \nAnimation par le pôle de déploiement numérique CAF. \nPour toutes questions ou inscription: \nTéléphone :  01 60 10 22 34 \nMail : bienvenue@placedunumerique.com \nSur place : 9 avenue de France 91300 Massy
URL:https://www.caton-paris-saclay.org/evenements/atelier-decouverte-plateforme-caf-tous-les-lundis-3/
LOCATION:9 avenue de france massy\, 9 avenue de France\, Massy\, 91300
END:VEVENT
BEGIN:VEVENT
DTSTART;TZID=Europe/Paris:20260316T141500
DTEND;TZID=Europe/Paris:20260316T160000
DTSTAMP:20260421T123348
CREATED:20260414T112350Z
LAST-MODIFIED:20260414T112350Z
UID:13038-1773670500-1773676800@www.caton-paris-saclay.org
SUMMARY:Atelier découverte plateforme CAF\, tous les lundis.
DESCRIPTION:Atelier gratuit pour apprendre à utiliser le site de la CAF et effectuer vos démarches en ligne en toute autonomie : créer un compte\, faire une déclaration ou consulter vos droits.  \nAnimation par le pôle de déploiement numérique CAF. \nPour toutes questions ou inscription: \nTéléphone :  01 60 10 22 34 \nMail : bienvenue@placedunumerique.com \nSur place : 9 avenue de France 91300 Massy
URL:https://www.caton-paris-saclay.org/evenements/atelier-decouverte-plateforme-caf-tous-les-lundis-4/
LOCATION:9 avenue de france massy\, 9 avenue de France\, Massy\, 91300
END:VEVENT
BEGIN:VEVENT
DTSTART;TZID=Europe/Paris:20260323T141500
DTEND;TZID=Europe/Paris:20260323T160000
DTSTAMP:20260421T123348
CREATED:20260414T112502Z
LAST-MODIFIED:20260414T112502Z
UID:13040-1774275300-1774281600@www.caton-paris-saclay.org
SUMMARY:Atelier découverte plateforme CAF\, tous les lundis.
DESCRIPTION:Atelier gratuit pour apprendre à utiliser le site de la CAF et effectuer vos démarches en ligne en toute autonomie : créer un compte\, faire une déclaration ou consulter vos droits.  \nAnimation par le pôle de déploiement numérique CAF. \nPour toutes questions ou inscription: \nTéléphone :  01 60 10 22 34 \nMail : bienvenue@placedunumerique.com \nSur place : 9 avenue de France 91300 Massy
URL:https://www.caton-paris-saclay.org/evenements/atelier-decouverte-plateforme-caf-tous-les-lundis-5/
LOCATION:9 avenue de france massy\, 9 avenue de France\, Massy\, 91300
END:VEVENT
BEGIN:VEVENT
DTSTART;TZID=Europe/Paris:20260323T141500
DTEND;TZID=Europe/Paris:20260323T160000
DTSTAMP:20260421T123348
CREATED:20260414T112613Z
LAST-MODIFIED:20260414T112613Z
UID:13042-1774275300-1774281600@www.caton-paris-saclay.org
SUMMARY:Atelier découverte plateforme CAF\, tous les lundis.
DESCRIPTION:Atelier gratuit pour apprendre à utiliser le site de la CAF et effectuer vos démarches en ligne en toute autonomie : créer un compte\, faire une déclaration ou consulter vos droits.  \nAnimation par le pôle de déploiement numérique CAF. \nPour toutes questions ou inscription: \nTéléphone :  01 60 10 22 34 \nMail : bienvenue@placedunumerique.com \nSur place : 9 avenue de France 91300 Massy
URL:https://www.caton-paris-saclay.org/evenements/atelier-decouverte-plateforme-caf-tous-les-lundis-6/
LOCATION:9 avenue de france massy\, 9 avenue de France\, Massy\, 91300
END:VEVENT
BEGIN:VEVENT
DTSTART;TZID=Europe/Paris:20260330T141500
DTEND;TZID=Europe/Paris:20260330T160000
DTSTAMP:20260421T123348
CREATED:20260414T112729Z
LAST-MODIFIED:20260414T112729Z
UID:13044-1774880100-1774886400@www.caton-paris-saclay.org
SUMMARY:Atelier découverte plateforme CAF\, tous les lundis.
DESCRIPTION:Atelier gratuit pour apprendre à utiliser le site de la CAF et effectuer vos démarches en ligne en toute autonomie : créer un compte\, faire une déclaration ou consulter vos droits.  \nAnimation par le pôle de déploiement numérique CAF. \nPour toutes questions ou inscription: \nTéléphone :  01 60 10 22 34 \nMail : bienvenue@placedunumerique.com \nSur place : 9 avenue de France 91300 Massy
URL:https://www.caton-paris-saclay.org/evenements/atelier-decouverte-plateforme-caf-tous-les-lundis-7/
LOCATION:9 avenue de france massy\, 9 avenue de France\, Massy\, 91300
END:VEVENT
END:VCALENDAR